BEGIN:VCALENDAR
VERSION:2.0
PRODID:-//CCCIS | 維省新生會 - ECPv6.15.18//NONSGML v1.0//EN
CALSCALE:GREGORIAN
METHOD:PUBLISH
X-ORIGINAL-URL:https://cccis.org.au
X-WR-CALDESC:Events for CCCIS | 維省新生會
REFRESH-INTERVAL;VALUE=DURATION:PT1H
X-Robots-Tag:noindex
X-PUBLISHED-TTL:PT1H
BEGIN:VTIMEZONE
TZID:Australia/Melbourne
BEGIN:STANDARD
TZOFFSETFROM:+1100
TZOFFSETTO:+1000
TZNAME:AEST
DTSTART:20190406T160000
END:STANDARD
BEGIN:DAYLIGHT
TZOFFSETFROM:+1000
TZOFFSETTO:+1100
TZNAME:AEDT
DTSTART:20191005T160000
END:DAYLIGHT
BEGIN:STANDARD
TZOFFSETFROM:+1100
TZOFFSETTO:+1000
TZNAME:AEST
DTSTART:20200404T160000
END:STANDARD
BEGIN:DAYLIGHT
TZOFFSETFROM:+1000
TZOFFSETTO:+1100
TZNAME:AEDT
DTSTART:20201003T160000
END:DAYLIGHT
BEGIN:STANDARD
TZOFFSETFROM:+1100
TZOFFSETTO:+1000
TZNAME:AEST
DTSTART:20210403T160000
END:STANDARD
BEGIN:DAYLIGHT
TZOFFSETFROM:+1000
TZOFFSETTO:+1100
TZNAME:AEDT
DTSTART:20211002T160000
END:DAYLIGHT
END:VTIMEZONE
BEGIN:VEVENT
DTSTART;TZID=Australia/Melbourne:20200909T140000
DTEND;TZID=Australia/Melbourne:20200909T160000
DTSTAMP:20260421T182333
CREATED:20200831T222823Z
LAST-MODIFIED:20200831T222836Z
UID:4706-1599660000-1599667200@cccis.org.au
SUMMARY:講座主題：關注長者 – 家庭關係和長者權利講座
DESCRIPTION:
URL:https://cccis.org.au/events/%e8%ac%9b%e5%ba%a7%e4%b8%bb%e9%a1%8c%ef%bc%9a%e9%97%9c%e6%b3%a8%e9%95%b7%e8%80%85-%e5%ae%b6%e5%ba%ad%e9%97%9c%e4%bf%82%e5%92%8c%e9%95%b7%e8%80%85%e6%ac%8a%e5%88%a9%e8%ac%9b%e5%ba%a7/
LOCATION:線上\, 請聯絡辦公室03 9898 9575\, 報名獲取參與信息
CATEGORIES:Activities&Events,CN,Community Education,Groups,Seminar/Webinar
ORGANIZER;CN="%E7%B6%AD%E7%9C%81%E6%96%B0%E7%94%9F%E6%9C%83":MAILTO:event@cccis.org.au
END:VEVENT
END:VCALENDAR