BEGIN:VCALENDAR
VERSION:2.0
PRODID:-//CCCIS | 維省新生會 - ECPv6.15.18//NONSGML v1.0//EN
CALSCALE:GREGORIAN
METHOD:PUBLISH
X-ORIGINAL-URL:https://cccis.org.au
X-WR-CALDESC:Events for CCCIS | 維省新生會
REFRESH-INTERVAL;VALUE=DURATION:PT1H
X-Robots-Tag:noindex
X-PUBLISHED-TTL:PT1H
BEGIN:VTIMEZONE
TZID:Australia/Melbourne
BEGIN:STANDARD
TZOFFSETFROM:+1100
TZOFFSETTO:+1000
TZNAME:AEST
DTSTART:20210403T160000
END:STANDARD
BEGIN:DAYLIGHT
TZOFFSETFROM:+1000
TZOFFSETTO:+1100
TZNAME:AEDT
DTSTART:20211002T160000
END:DAYLIGHT
BEGIN:STANDARD
TZOFFSETFROM:+1100
TZOFFSETTO:+1000
TZNAME:AEST
DTSTART:20220402T160000
END:STANDARD
BEGIN:DAYLIGHT
TZOFFSETFROM:+1000
TZOFFSETTO:+1100
TZNAME:AEDT
DTSTART:20221001T160000
END:DAYLIGHT
BEGIN:STANDARD
TZOFFSETFROM:+1100
TZOFFSETTO:+1000
TZNAME:AEST
DTSTART:20230401T160000
END:STANDARD
BEGIN:DAYLIGHT
TZOFFSETFROM:+1000
TZOFFSETTO:+1100
TZNAME:AEDT
DTSTART:20230930T160000
END:DAYLIGHT
END:VTIMEZONE
BEGIN:VEVENT
DTSTART;TZID=Australia/Melbourne:20221029T094500
DTEND;TZID=Australia/Melbourne:20221029T153000
DTSTAMP:20260421T093707
CREATED:20221006T235852Z
LAST-MODIFIED:20230711T133521Z
UID:7004-1667036700-1667057400@cccis.org.au
SUMMARY:防患於未然·慢性疾病資訊⽇ 2022
DESCRIPTION:電話：維省新生會辦公室 03 9898 9575 | 星期一至五：早上9:30 –下午5:30\n簡訊：0481 535 784          電郵：event@cccis.org.au\n（請註明：姓名、報名人數、面對面或ZOOM、聯絡方式）
URL:https://cccis.org.au/events/%e9%98%b2%e6%82%a3%e6%96%bc%e6%9c%aa%e7%84%b6%c2%b7%e6%85%a2%e6%80%a7%e7%96%be%e7%97%85%e8%b3%87%e8%a8%8a%e2%bd%87-2022/
LOCATION:Hawthorn Library\, 584 Glenferrie Road\, Hawthorn\, Victoria\, Australia
CATEGORIES:Activities&Events,CN,Community Education
ORGANIZER;CN="%E7%B6%AD%E7%9C%81%E6%96%B0%E7%94%9F%E6%9C%83":MAILTO:event@cccis.org.au
END:VEVENT
END:VCALENDAR