BEGIN:VCALENDAR
VERSION:2.0
PRODID:-//CCCIS | 維省新生會 - ECPv6.15.18//NONSGML v1.0//EN
CALSCALE:GREGORIAN
METHOD:PUBLISH
X-ORIGINAL-URL:https://cccis.org.au
X-WR-CALDESC:Events for CCCIS | 維省新生會
REFRESH-INTERVAL;VALUE=DURATION:PT1H
X-Robots-Tag:noindex
X-PUBLISHED-TTL:PT1H
BEGIN:VTIMEZONE
TZID:Australia/Melbourne
BEGIN:STANDARD
TZOFFSETFROM:+1100
TZOFFSETTO:+1000
TZNAME:AEST
DTSTART:20210403T160000
END:STANDARD
BEGIN:DAYLIGHT
TZOFFSETFROM:+1000
TZOFFSETTO:+1100
TZNAME:AEDT
DTSTART:20211002T160000
END:DAYLIGHT
BEGIN:STANDARD
TZOFFSETFROM:+1100
TZOFFSETTO:+1000
TZNAME:AEST
DTSTART:20220402T160000
END:STANDARD
BEGIN:DAYLIGHT
TZOFFSETFROM:+1000
TZOFFSETTO:+1100
TZNAME:AEDT
DTSTART:20221001T160000
END:DAYLIGHT
BEGIN:STANDARD
TZOFFSETFROM:+1100
TZOFFSETTO:+1000
TZNAME:AEST
DTSTART:20230401T160000
END:STANDARD
BEGIN:DAYLIGHT
TZOFFSETFROM:+1000
TZOFFSETTO:+1100
TZNAME:AEDT
DTSTART:20230930T160000
END:DAYLIGHT
END:VTIMEZONE
BEGIN:VEVENT
DTSTART;TZID=Australia/Melbourne:20221112T140000
DTEND;TZID=Australia/Melbourne:20221112T160000
DTSTAMP:20260421T130806
CREATED:20221102T050254Z
LAST-MODIFIED:20230711T133521Z
UID:7095-1668261600-1668268800@cccis.org.au
SUMMARY:[線上] 健康講座：宮頸癌篩查——如何自行採集樣本
DESCRIPTION:
URL:https://cccis.org.au/events/%e5%81%a5%e5%ba%b7%e8%ac%9b%e5%ba%a7%ef%bc%9a%e5%ae%ae%e9%a0%b8%e7%99%8c%e7%af%a9%e6%9f%a5-%e5%a6%82%e4%bd%95%e8%87%aa%e8%a1%8c%e6%8e%a1%e9%9b%86%e6%a8%a3%e6%9c%ac/
LOCATION:線上\, 請聯絡辦公室03 9898 9575\, 報名獲取參與信息
CATEGORIES:Activities&Events,CN,Community Education
ORGANIZER;CN="%E7%B6%AD%E7%9C%81%E6%96%B0%E7%94%9F%E6%9C%83":MAILTO:event@cccis.org.au
END:VEVENT
END:VCALENDAR