BEGIN:VCALENDAR
VERSION:2.0
PRODID:-//CCCIS | 維省新生會 - ECPv6.15.18//NONSGML v1.0//EN
CALSCALE:GREGORIAN
METHOD:PUBLISH
X-ORIGINAL-URL:https://cccis.org.au
X-WR-CALDESC:Events for CCCIS | 維省新生會
REFRESH-INTERVAL;VALUE=DURATION:PT1H
X-Robots-Tag:noindex
X-PUBLISHED-TTL:PT1H
BEGIN:VTIMEZONE
TZID:Australia/Melbourne
BEGIN:STANDARD
TZOFFSETFROM:+1100
TZOFFSETTO:+1000
TZNAME:AEST
DTSTART:20220402T160000
END:STANDARD
BEGIN:DAYLIGHT
TZOFFSETFROM:+1000
TZOFFSETTO:+1100
TZNAME:AEDT
DTSTART:20221001T160000
END:DAYLIGHT
BEGIN:STANDARD
TZOFFSETFROM:+1100
TZOFFSETTO:+1000
TZNAME:AEST
DTSTART:20230401T160000
END:STANDARD
BEGIN:DAYLIGHT
TZOFFSETFROM:+1000
TZOFFSETTO:+1100
TZNAME:AEDT
DTSTART:20230930T160000
END:DAYLIGHT
BEGIN:STANDARD
TZOFFSETFROM:+1100
TZOFFSETTO:+1000
TZNAME:AEST
DTSTART:20240406T160000
END:STANDARD
BEGIN:DAYLIGHT
TZOFFSETFROM:+1000
TZOFFSETTO:+1100
TZNAME:AEDT
DTSTART:20241005T160000
END:DAYLIGHT
END:VTIMEZONE
BEGIN:VEVENT
DTSTART;TZID=Australia/Melbourne:20230328T133000
DTEND;TZID=Australia/Melbourne:20230328T140000
DTSTAMP:20260421T155935
CREATED:20230326T092127Z
LAST-MODIFIED:20230711T133521Z
UID:9109-1680010200-1680012000@cccis.org.au
SUMMARY:睹「襪」思人憶故友
DESCRIPTION:
URL:https://cccis.org.au/events/%e7%9d%b9%e3%80%8c%e8%a5%aa%e3%80%8d%e6%80%9d%e4%ba%ba%e6%86%b6%e6%95%85%e5%8f%8b/
LOCATION:維省新生會會所\, 784 Station St\, Box Hill North 3129\, Box Hill North\, Vic\, 3129\, Australia
CATEGORIES:Activities&Events,CN,Seminar/Webinar
ATTACH;FMTTYPE=image/png:https://cccis.org.au/wp-content/uploads/2023/03/Tribute-Tree-Ceremony-28-03-2023-updated.png
ORGANIZER;CN="%E7%B6%AD%E7%9C%81%E6%96%B0%E7%94%9F%E6%9C%83":MAILTO:event@cccis.org.au
END:VEVENT
END:VCALENDAR