BEGIN:VCALENDAR
VERSION:2.0
PRODID:-//CCCIS | 維省新生會 - ECPv6.15.18//NONSGML v1.0//EN
CALSCALE:GREGORIAN
METHOD:PUBLISH
X-ORIGINAL-URL:https://cccis.org.au
X-WR-CALDESC:Events for CCCIS | 維省新生會
REFRESH-INTERVAL;VALUE=DURATION:PT1H
X-Robots-Tag:noindex
X-PUBLISHED-TTL:PT1H
BEGIN:VTIMEZONE
TZID:Australia/Melbourne
BEGIN:STANDARD
TZOFFSETFROM:+1100
TZOFFSETTO:+1000
TZNAME:AEST
DTSTART:20220402T160000
END:STANDARD
BEGIN:DAYLIGHT
TZOFFSETFROM:+1000
TZOFFSETTO:+1100
TZNAME:AEDT
DTSTART:20221001T160000
END:DAYLIGHT
BEGIN:STANDARD
TZOFFSETFROM:+1100
TZOFFSETTO:+1000
TZNAME:AEST
DTSTART:20230401T160000
END:STANDARD
BEGIN:DAYLIGHT
TZOFFSETFROM:+1000
TZOFFSETTO:+1100
TZNAME:AEDT
DTSTART:20230930T160000
END:DAYLIGHT
BEGIN:STANDARD
TZOFFSETFROM:+1100
TZOFFSETTO:+1000
TZNAME:AEST
DTSTART:20240406T160000
END:STANDARD
BEGIN:DAYLIGHT
TZOFFSETFROM:+1000
TZOFFSETTO:+1100
TZNAME:AEDT
DTSTART:20241005T160000
END:DAYLIGHT
END:VTIMEZONE
BEGIN:VEVENT
DTSTART;TZID=Australia/Melbourne:20230401T140000
DTEND;TZID=Australia/Melbourne:20230401T160000
DTSTAMP:20260421T194536
CREATED:20230326T092554Z
LAST-MODIFIED:20230711T133521Z
UID:9112-1680357600-1680364800@cccis.org.au
SUMMARY:清明郊遊·懷念故友
DESCRIPTION:
URL:https://cccis.org.au/events/%e6%b8%85%e6%98%8e%e9%83%8a%e9%81%8a%c2%b7%e6%87%b7%e5%bf%b5%e6%95%85%e5%8f%8b/
LOCATION:Westerfolds Park 韋期特福德公園\, Main Yarra Trail\, Templestowe\, VIC\, 3106\, Australia
CATEGORIES:Activities&Events,CN,Seminar/Webinar
ATTACH;FMTTYPE=image/png:https://cccis.org.au/wp-content/uploads/2023/03/Memorial-Day-01042023-Feature-Pic.png
ORGANIZER;CN="%E7%B6%AD%E7%9C%81%E6%96%B0%E7%94%9F%E6%9C%83":MAILTO:event@cccis.org.au
END:VEVENT
END:VCALENDAR