BEGIN:VCALENDAR
VERSION:2.0
PRODID:-//CCCIS | 維省新生會 - ECPv6.15.18//NONSGML v1.0//EN
CALSCALE:GREGORIAN
METHOD:PUBLISH
X-ORIGINAL-URL:https://cccis.org.au
X-WR-CALDESC:Events for CCCIS | 維省新生會
REFRESH-INTERVAL;VALUE=DURATION:PT1H
X-Robots-Tag:noindex
X-PUBLISHED-TTL:PT1H
BEGIN:VTIMEZONE
TZID:Australia/Melbourne
BEGIN:STANDARD
TZOFFSETFROM:+1100
TZOFFSETTO:+1000
TZNAME:AEST
DTSTART:20200404T160000
END:STANDARD
BEGIN:DAYLIGHT
TZOFFSETFROM:+1000
TZOFFSETTO:+1100
TZNAME:AEDT
DTSTART:20201003T160000
END:DAYLIGHT
BEGIN:STANDARD
TZOFFSETFROM:+1100
TZOFFSETTO:+1000
TZNAME:AEST
DTSTART:20210403T160000
END:STANDARD
BEGIN:DAYLIGHT
TZOFFSETFROM:+1000
TZOFFSETTO:+1100
TZNAME:AEDT
DTSTART:20211002T160000
END:DAYLIGHT
BEGIN:STANDARD
TZOFFSETFROM:+1100
TZOFFSETTO:+1000
TZNAME:AEST
DTSTART:20220402T160000
END:STANDARD
BEGIN:DAYLIGHT
TZOFFSETFROM:+1000
TZOFFSETTO:+1100
TZNAME:AEDT
DTSTART:20221001T160000
END:DAYLIGHT
END:VTIMEZONE
BEGIN:VEVENT
DTSTART;TZID=Australia/Melbourne:20210601T103000
DTEND;TZID=Australia/Melbourne:20210601T120000
DTSTAMP:20260425T110028
CREATED:20210527T234306Z
LAST-MODIFIED:20210527T234534Z
UID:5551-1622543400-1622548800@cccis.org.au
SUMMARY:💥 與姚太一起在線上“飲飲茶”&“吹吹水”吧！(粵語)
DESCRIPTION:
URL:https://cccis.org.au/events/%e5%92%8c%e5%a7%9a%e5%a4%aa%e4%b8%80%e8%b5%b7%e5%9c%a8%e7%b7%9a%e4%b8%8a%e9%a3%b2%e9%a3%b2%e8%8c%b6%e5%90%b9%e5%90%b9%e6%b0%b4%e7%b2%b5%e8%aa%9e/
LOCATION:線上\, 請聯絡辦公室03 9898 9575\, 報名獲取參與信息
CATEGORIES:CN,Seminar/Webinar
ORGANIZER;CN="%E7%B6%AD%E7%9C%81%E6%96%B0%E7%94%9F%E6%9C%83":MAILTO:event@cccis.org.au
END:VEVENT
END:VCALENDAR