BEGIN:VCALENDAR
VERSION:2.0
PRODID:-//CCCIS | 維省新生會 - ECPv6.15.18//NONSGML v1.0//EN
CALSCALE:GREGORIAN
METHOD:PUBLISH
X-ORIGINAL-URL:https://cccis.org.au
X-WR-CALDESC:Events for CCCIS | 維省新生會
REFRESH-INTERVAL;VALUE=DURATION:PT1H
X-Robots-Tag:noindex
X-PUBLISHED-TTL:PT1H
BEGIN:VTIMEZONE
TZID:Australia/Melbourne
BEGIN:STANDARD
TZOFFSETFROM:+1100
TZOFFSETTO:+1000
TZNAME:AEST
DTSTART:20220402T160000
END:STANDARD
BEGIN:DAYLIGHT
TZOFFSETFROM:+1000
TZOFFSETTO:+1100
TZNAME:AEDT
DTSTART:20221001T160000
END:DAYLIGHT
BEGIN:STANDARD
TZOFFSETFROM:+1100
TZOFFSETTO:+1000
TZNAME:AEST
DTSTART:20230401T160000
END:STANDARD
BEGIN:DAYLIGHT
TZOFFSETFROM:+1000
TZOFFSETTO:+1100
TZNAME:AEDT
DTSTART:20230930T160000
END:DAYLIGHT
BEGIN:STANDARD
TZOFFSETFROM:+1100
TZOFFSETTO:+1000
TZNAME:AEST
DTSTART:20240406T160000
END:STANDARD
BEGIN:DAYLIGHT
TZOFFSETFROM:+1000
TZOFFSETTO:+1100
TZNAME:AEDT
DTSTART:20241005T160000
END:DAYLIGHT
END:VTIMEZONE
BEGIN:VEVENT
DTSTART;TZID=Australia/Melbourne:20231005T143000
DTEND;TZID=Australia/Melbourne:20231005T160000
DTSTAMP:20260423T135028
CREATED:20231004T132620Z
LAST-MODIFIED:20231004T132620Z
UID:10068-1696516200-1696521600@cccis.org.au
SUMMARY:加入社區學習工作坊：全國腸癌篩查計劃
DESCRIPTION:
URL:https://cccis.org.au/events/%e5%8a%a0%e5%85%a5%e7%a4%be%e5%8d%80%e5%ad%b8%e7%bf%92%e5%b7%a5%e4%bd%9c%e5%9d%8a%ef%bc%9a%e5%85%a8%e5%9c%8b%e8%85%b8%e7%99%8c%e7%af%a9%e6%9f%a5%e8%a8%88%e5%8a%83/
LOCATION:維省新生會會所\, 784 Station St\, Box Hill North 3129\, Box Hill North\, Vic\, 3129\, Australia
CATEGORIES:CN,Community Education,Groups,Seminar/Webinar
ATTACH;FMTTYPE=image/jpeg:https://cccis.org.au/wp-content/uploads/2023/10/Bowel-cancer-lerning-circle.jpg
ORGANIZER;CN="%E7%B6%AD%E7%9C%81%E6%96%B0%E7%94%9F%E6%9C%83":MAILTO:event@cccis.org.au
END:VEVENT
BEGIN:VEVENT
DTSTART;TZID=Australia/Melbourne:20231021T093000
DTEND;TZID=Australia/Melbourne:20231021T153000
DTSTAMP:20260423T135028
CREATED:20231004T133509Z
LAST-MODIFIED:20231004T133509Z
UID:10076-1697880600-1697902200@cccis.org.au
SUMMARY:2023 防患於未然·慢性疾病資訊日
DESCRIPTION:
URL:https://cccis.org.au/events/2023-%e9%98%b2%e6%82%a3%e6%96%bc%e6%9c%aa%e7%84%b6%c2%b7%e6%85%a2%e6%80%a7%e7%96%be%e7%97%85%e8%b3%87%e8%a8%8a%e6%97%a5/
LOCATION:Hawthorn圖書館\, 584 Glenferrie Road\, Boroondara\, Victoria\, 3122\, Australia
CATEGORIES:CN,Community Education,Seminar/Webinar
ATTACH;FMTTYPE=image/jpeg:https://cccis.org.au/wp-content/uploads/2023/10/Poster_Chi.jpg
ORGANIZER;CN="%E7%B6%AD%E7%9C%81%E6%96%B0%E7%94%9F%E6%9C%83":MAILTO:event@cccis.org.au
END:VEVENT
END:VCALENDAR